BEGIN:VCALENDAR
VERSION:2.0
PRODID:-//326 Day of Action - ECPv6.15.20//NONSGML v1.0//EN
CALSCALE:GREGORIAN
METHOD:PUBLISH
X-WR-CALNAME:326 Day of Action
X-ORIGINAL-URL:https://326dayofaction.org
X-WR-CALDESC:Events for 326 Day of Action
REFRESH-INTERVAL;VALUE=DURATION:PT1H
X-Robots-Tag:noindex
X-PUBLISHED-TTL:PT1H
BEGIN:VTIMEZONE
TZID:America/Phoenix
BEGIN:STANDARD
TZOFFSETFROM:-0700
TZOFFSETTO:-0700
TZNAME:MST
DTSTART:20200101T000000
END:STANDARD
END:VTIMEZONE
BEGIN:VTIMEZONE
TZID:America/New_York
BEGIN:DAYLIGHT
TZOFFSETFROM:-0500
TZOFFSETTO:-0400
TZNAME:EDT
DTSTART:20200308T070000
END:DAYLIGHT
BEGIN:STANDARD
TZOFFSETFROM:-0400
TZOFFSETTO:-0500
TZNAME:EST
DTSTART:20201101T060000
END:STANDARD
BEGIN:DAYLIGHT
TZOFFSETFROM:-0500
TZOFFSETTO:-0400
TZNAME:EDT
DTSTART:20210314T070000
END:DAYLIGHT
BEGIN:STANDARD
TZOFFSETFROM:-0400
TZOFFSETTO:-0500
TZNAME:EST
DTSTART:20211107T060000
END:STANDARD
BEGIN:DAYLIGHT
TZOFFSETFROM:-0500
TZOFFSETTO:-0400
TZNAME:EDT
DTSTART:20220313T070000
END:DAYLIGHT
BEGIN:STANDARD
TZOFFSETFROM:-0400
TZOFFSETTO:-0500
TZNAME:EST
DTSTART:20221106T060000
END:STANDARD
END:VTIMEZONE
BEGIN:VEVENT
DTSTART;TZID=America/Phoenix:20210327T180000
DTEND;TZID=America/Phoenix:20210327T200000
DTSTAMP:20260419T100052
CREATED:20210324T191802Z
LAST-MODIFIED:20210324T191802Z
UID:463-1616868000-1616875200@326dayofaction.org
SUMMARY:Peaceful March & Vigil Against Anti-Asian Violence (Mesa\, Arizona)
DESCRIPTION:This event is a gathering in remembrance of the people who were brutally murdered by a culture of misogyny\, racism\, and white supremacy. A culture that fetishizes Asian women\, and treats us as the exotic “other”. That loves us for our food and customs but not our humanity.\nIn the past year\, we have seen a rise in anti-Asian sentiment\, even from those in the highest offices that govern this occupied land. We are gathering to say “enough is enough!”\nWe are coming together to be in community and work on our healing\, to turn our collective grief into the passion to fight for our community. We will have speakers and performers to help us ground ourselves in our demands.\nMasks will be required for all attendees. Families welcome. If there are ways in which we can make this event accessible for you\, please inbox us.
URL:https://326dayofaction.org/event/peaceful-march-vigil-against-anti-asian-violence-mesa-arizona/
LOCATION:Asian District Arizona\, 66 South Dobson Rd\, Mesa\, AZ\, 85202\, United States
CATEGORIES:In Person
END:VEVENT
BEGIN:VEVENT
DTSTART;TZID=America/New_York:20210327T150000
DTEND;TZID=America/New_York:20210327T180000
DTSTAMP:20260419T100052
CREATED:20210324T185453Z
LAST-MODIFIED:20210324T185843Z
UID:439-1616857200-1616868000@326dayofaction.org
SUMMARY:Stop Asian Hate Vigil and Rally (Detroit\, Michigan)
DESCRIPTION:Please join us on Saturday\, March 27th\, 3 PM at Spirit Plaza in Detroit\, MI for a peaceful rally to stop Asian hate. Come as you are to speak out. Make the voices of many generations heard because we stand united and will not back down in the face of adversity.
URL:https://326dayofaction.org/event/stop-asian-hate-vigil-and-rally-detroit-michigan/
LOCATION:Spirit Plaza\, 2 Woodward Ave\, Detroit\, MI\, 48226\, United States
CATEGORIES:In Person
END:VEVENT
END:VCALENDAR